BEGIN:VCALENDAR
VERSION:2.0
PRODID:-//Seniorenbeirat Stadt Herten - ECPv6.15.20//NONSGML v1.0//EN
CALSCALE:GREGORIAN
METHOD:PUBLISH
X-WR-CALNAME:Seniorenbeirat Stadt Herten
X-ORIGINAL-URL:https://seniorenbeirat-herten.de
X-WR-CALDESC:Veranstaltungen für Seniorenbeirat Stadt Herten
REFRESH-INTERVAL;VALUE=DURATION:PT1H
X-Robots-Tag:noindex
X-PUBLISHED-TTL:PT1H
BEGIN:VTIMEZONE
TZID:Europe/Berlin
BEGIN:DAYLIGHT
TZOFFSETFROM:+0100
TZOFFSETTO:+0200
TZNAME:CEST
DTSTART:20250330T010000
END:DAYLIGHT
BEGIN:STANDARD
TZOFFSETFROM:+0200
TZOFFSETTO:+0100
TZNAME:CET
DTSTART:20251026T010000
END:STANDARD
BEGIN:DAYLIGHT
TZOFFSETFROM:+0100
TZOFFSETTO:+0200
TZNAME:CEST
DTSTART:20260329T010000
END:DAYLIGHT
BEGIN:STANDARD
TZOFFSETFROM:+0200
TZOFFSETTO:+0100
TZNAME:CET
DTSTART:20261025T010000
END:STANDARD
BEGIN:DAYLIGHT
TZOFFSETFROM:+0100
TZOFFSETTO:+0200
TZNAME:CEST
DTSTART:20270328T010000
END:DAYLIGHT
BEGIN:STANDARD
TZOFFSETFROM:+0200
TZOFFSETTO:+0100
TZNAME:CET
DTSTART:20271031T010000
END:STANDARD
END:VTIMEZONE
BEGIN:VEVENT
DTSTART;TZID=Europe/Berlin:20260421T100000
DTEND;TZID=Europe/Berlin:20260421T120000
DTSTAMP:20260421T202309
CREATED:20260204T103354Z
LAST-MODIFIED:20260204T103354Z
UID:1254-1776765600-1776772800@seniorenbeirat-herten.de
SUMMARY:Plauderstunde in Scherlebeck
DESCRIPTION:
URL:https://seniorenbeirat-herten.de/event/plauderstunde-in-scherlebeck-3/
LOCATION:Café im Wohn- und Pflegezentrum Gertrudenau\, Scherlebecker Str. 264\, Herten\, 45701
END:VEVENT
BEGIN:VEVENT
DTSTART;TZID=Europe/Berlin:20260422T150000
DTEND;TZID=Europe/Berlin:20260422T170000
DTSTAMP:20260421T202309
CREATED:20260203T164150Z
LAST-MODIFIED:20260203T164150Z
UID:1215-1776870000-1776877200@seniorenbeirat-herten.de
SUMMARY:Hilfe beim Umgang mit Handy\, Tablet und Smartphone
DESCRIPTION:
URL:https://seniorenbeirat-herten.de/event/hilfe-beim-umgang-mit-handy-tablet-und-smartphone-2/
LOCATION:Café im Wohn- und Pflegezentrum Gertrudenau\, Scherlebecker Str. 264\, Herten\, 45701
END:VEVENT
BEGIN:VEVENT
DTSTART;TZID=Europe/Berlin:20260423T140000
DTEND;TZID=Europe/Berlin:20260423T170000
DTSTAMP:20260421T202309
CREATED:20260203T122728Z
LAST-MODIFIED:20260203T154811Z
UID:1074-1776952800-1776963600@seniorenbeirat-herten.de
SUMMARY:Filmtreff: Konklave
DESCRIPTION:
URL:https://seniorenbeirat-herten.de/event/filmtreff-konklave/
LOCATION:Gemeinderäume der Thomaskirche\, Langenbochumer Strasse 435\, Herten\, 45701
END:VEVENT
BEGIN:VEVENT
DTSTART;TZID=Europe/Berlin:20260425T090000
DTEND;TZID=Europe/Berlin:20260425T180000
DTSTAMP:20260421T202309
CREATED:20260413T195125Z
LAST-MODIFIED:20260413T195125Z
UID:1814-1777107600-1777140000@seniorenbeirat-herten.de
SUMMARY:Ausflug zum Tulpenmarkt nach Venlo
DESCRIPTION:Abfahrt mit dem Bus 9:00 Uhr ab Rathaus Herten; weitere Zustiegspunkte : 9:10 Uhr Haltestelle Schloßstrasse\, 9:20 Uhr Langenbochum – ehem. KIK\, 9:30 Uhr Scherlebeck – Flammengrill; \nAnkunft in Herten ca. 18:00 Uhr; \nAnmeldung bei Carmen Muhs unter Tel.: 0151-23597973 oder carmen.muhs@waldritter.de; \nKosten für Mitglieder des Vereins Aktive Senioren Herten e.V.: 25 €; \nGäste sind herzlich willkommen. Kosten 27 € \n 
URL:https://seniorenbeirat-herten.de/event/ausflug-zum-tulpenmarkt-nach-venlo/
LOCATION:Wochenmarkt Venlo\, Monseigneur Nolensplein 50\, Venlo\, 5911 GG\, Netherlands
END:VEVENT
BEGIN:VEVENT
DTSTART;TZID=Europe/Berlin:20260427T100000
DTEND;TZID=Europe/Berlin:20260427T110000
DTSTAMP:20260421T202309
CREATED:20260413T192356Z
LAST-MODIFIED:20260413T192659Z
UID:1797-1777284000-1777287600@seniorenbeirat-herten.de
SUMMARY:Sport/Hockergymnastik
DESCRIPTION:Anmeldung bei Ute Orlowski unter Tel.: 02366-84433 oder ute.orlowski@gmx.de\, \nKosten für Mitglieder des Vereins Aktive Senioren Herten e.V.: 50€ pro Halbjahr
URL:https://seniorenbeirat-herten.de/event/sport-hockergymnastik-2/
LOCATION:Bürgerhaus Herten\, Hans-Senkel-Platz 1\, Herten\, 45699
END:VEVENT
BEGIN:VEVENT
DTSTART;TZID=Europe/Berlin:20260427T100000
DTEND;TZID=Europe/Berlin:20260427T120000
DTSTAMP:20260421T202309
CREATED:20260216T165704Z
LAST-MODIFIED:20260216T165747Z
UID:1450-1777284000-1777291200@seniorenbeirat-herten.de
SUMMARY:Plauderstübchen am Paschenberg
DESCRIPTION:
URL:https://seniorenbeirat-herten.de/event/plauderstuebchen-am-paschenberg-3/
LOCATION:Projektraum\, Feldstrasse 125\, Herten\, 45699\, Germany
END:VEVENT
BEGIN:VEVENT
DTSTART;TZID=Europe/Berlin:20260429T150000
DTEND;TZID=Europe/Berlin:20260429T170000
DTSTAMP:20260421T202309
CREATED:20260413T195643Z
LAST-MODIFIED:20260413T195736Z
UID:1819-1777474800-1777482000@seniorenbeirat-herten.de
SUMMARY:Spiel und Spaß - Brett- und Kartenspiele
DESCRIPTION:Anmeldung bei Carmen Muhs unter Tel.: 0151-23597973 oder carmen.muhs@waldritter.de\, \nkostenlos für Mitglieder des Vereins Aktive Senioren Herten e.V.\, (Jahresbeitrag: 30 €) \n 
URL:https://seniorenbeirat-herten.de/event/spiel-und-spass/
LOCATION:Ludothek\, Ewaldstraße 20\, 45699\, 45699\, Germany
END:VEVENT
END:VCALENDAR