BEGIN:VCALENDAR
VERSION:2.0
PRODID:-//Seniorenbeirat Stadt Herten - ECPv6.15.20//NONSGML v1.0//EN
CALSCALE:GREGORIAN
METHOD:PUBLISH
X-ORIGINAL-URL:https://seniorenbeirat-herten.de
X-WR-CALDESC:Veranstaltungen für Seniorenbeirat Stadt Herten
REFRESH-INTERVAL;VALUE=DURATION:PT1H
X-Robots-Tag:noindex
X-PUBLISHED-TTL:PT1H
BEGIN:VTIMEZONE
TZID:Europe/Berlin
BEGIN:DAYLIGHT
TZOFFSETFROM:+0100
TZOFFSETTO:+0200
TZNAME:CEST
DTSTART:20250330T010000
END:DAYLIGHT
BEGIN:STANDARD
TZOFFSETFROM:+0200
TZOFFSETTO:+0100
TZNAME:CET
DTSTART:20251026T010000
END:STANDARD
BEGIN:DAYLIGHT
TZOFFSETFROM:+0100
TZOFFSETTO:+0200
TZNAME:CEST
DTSTART:20260329T010000
END:DAYLIGHT
BEGIN:STANDARD
TZOFFSETFROM:+0200
TZOFFSETTO:+0100
TZNAME:CET
DTSTART:20261025T010000
END:STANDARD
BEGIN:DAYLIGHT
TZOFFSETFROM:+0100
TZOFFSETTO:+0200
TZNAME:CEST
DTSTART:20270328T010000
END:DAYLIGHT
BEGIN:STANDARD
TZOFFSETFROM:+0200
TZOFFSETTO:+0100
TZNAME:CET
DTSTART:20271031T010000
END:STANDARD
END:VTIMEZONE
BEGIN:VEVENT
DTSTART;TZID=Europe/Berlin:20261005T090000
DTEND;TZID=Europe/Berlin:20261005T120000
DTSTAMP:20260422T043002
CREATED:20260203T160612Z
LAST-MODIFIED:20260220T091209Z
UID:1201-1791190800-1791201600@seniorenbeirat-herten.de
SUMMARY:Miteinander im Gespräch
DESCRIPTION:
URL:https://seniorenbeirat-herten.de/event/miteinander-im-gespraech-3/
LOCATION:Bürgerhaus Herten\, Hans-Senkel-Platz 1\, Herten\, 45699
END:VEVENT
BEGIN:VEVENT
DTSTART;TZID=Europe/Berlin:20261014T150000
DTEND;TZID=Europe/Berlin:20261014T170000
DTSTAMP:20260422T043002
CREATED:20260203T142946Z
LAST-MODIFIED:20260205T162824Z
UID:1142-1791990000-1791997200@seniorenbeirat-herten.de
SUMMARY:Arbeitstreffen des Senioren­beirates
DESCRIPTION:
URL:https://seniorenbeirat-herten.de/event/arbeitstreffen-des-seniorenbeirates-7/
LOCATION:Bürgerhaus Herten\, Hans-Senkel-Platz 1\, Herten\, 45699
END:VEVENT
BEGIN:VEVENT
DTSTART;TZID=Europe/Berlin:20261015T150000
DTEND;TZID=Europe/Berlin:20261015T170000
DTSTAMP:20260422T043002
CREATED:20260205T154816Z
LAST-MODIFIED:20260205T154816Z
UID:1334-1792076400-1792083600@seniorenbeirat-herten.de
SUMMARY:Technik­stammtisch
DESCRIPTION:
URL:https://seniorenbeirat-herten.de/event/technikstammtisch-9/
LOCATION:Bürgerhaus Herten\, Hans-Senkel-Platz 1\, Herten\, 45699
END:VEVENT
BEGIN:VEVENT
DTSTART;TZID=Europe/Berlin:20261016T150000
DTEND;TZID=Europe/Berlin:20261016T170000
DTSTAMP:20260422T043002
CREATED:20260203T150829Z
LAST-MODIFIED:20260203T150829Z
UID:1168-1792162800-1792170000@seniorenbeirat-herten.de
SUMMARY:PlauderCafé in Westerholt
DESCRIPTION:
URL:https://seniorenbeirat-herten.de/event/plaudercafe-in-westerholt-8/
LOCATION:Caféthek der FBW\, Kuhstrasse 49\, Herten\, 45701
END:VEVENT
BEGIN:VEVENT
DTSTART;TZID=Europe/Berlin:20261020T100000
DTEND;TZID=Europe/Berlin:20261020T120000
DTSTAMP:20260422T043002
CREATED:20260204T104053Z
LAST-MODIFIED:20260204T104053Z
UID:1266-1792490400-1792497600@seniorenbeirat-herten.de
SUMMARY:Plauderstunde in Scherlebeck
DESCRIPTION:
URL:https://seniorenbeirat-herten.de/event/plauderstunde-in-scherlebeck-9/
LOCATION:Café im Wohn- und Pflegezentrum Gertrudenau\, Scherlebecker Str. 264\, Herten\, 45701
END:VEVENT
BEGIN:VEVENT
DTSTART;TZID=Europe/Berlin:20261026T100000
DTEND;TZID=Europe/Berlin:20261026T120000
DTSTAMP:20260422T043002
CREATED:20260216T170930Z
LAST-MODIFIED:20260216T170930Z
UID:1463-1793008800-1793016000@seniorenbeirat-herten.de
SUMMARY:Plauderstübchen am Paschenberg
DESCRIPTION:
URL:https://seniorenbeirat-herten.de/event/plauderstuebchen-am-paschenberg-9/
LOCATION:Projektraum\, Feldstrasse 125\, Herten\, 45699\, Germany
END:VEVENT
BEGIN:VEVENT
DTSTART;TZID=Europe/Berlin:20261028T150000
DTEND;TZID=Europe/Berlin:20261028T170000
DTSTAMP:20260422T043002
CREATED:20260203T170003Z
LAST-MODIFIED:20260203T170003Z
UID:1228-1793199600-1793206800@seniorenbeirat-herten.de
SUMMARY:Hilfe beim Umgang mit Handy\, Tablet und Smartphone
DESCRIPTION:
URL:https://seniorenbeirat-herten.de/event/hilfe-beim-umgang-mit-handy-tablet-und-smartphone-8/
LOCATION:Café im Wohn- und Pflegezentrum Gertrudenau\, Scherlebecker Str. 264\, Herten\, 45701
END:VEVENT
END:VCALENDAR