BEGIN:VCALENDAR
VERSION:2.0
PRODID:-//Seniorenbeirat Stadt Herten - ECPv6.15.20//NONSGML v1.0//EN
CALSCALE:GREGORIAN
METHOD:PUBLISH
X-WR-CALNAME:Seniorenbeirat Stadt Herten
X-ORIGINAL-URL:https://seniorenbeirat-herten.de
X-WR-CALDESC:Veranstaltungen für Seniorenbeirat Stadt Herten
REFRESH-INTERVAL;VALUE=DURATION:PT1H
X-Robots-Tag:noindex
X-PUBLISHED-TTL:PT1H
BEGIN:VTIMEZONE
TZID:Europe/Berlin
BEGIN:DAYLIGHT
TZOFFSETFROM:+0100
TZOFFSETTO:+0200
TZNAME:CEST
DTSTART:20250330T010000
END:DAYLIGHT
BEGIN:STANDARD
TZOFFSETFROM:+0200
TZOFFSETTO:+0100
TZNAME:CET
DTSTART:20251026T010000
END:STANDARD
BEGIN:DAYLIGHT
TZOFFSETFROM:+0100
TZOFFSETTO:+0200
TZNAME:CEST
DTSTART:20260329T010000
END:DAYLIGHT
BEGIN:STANDARD
TZOFFSETFROM:+0200
TZOFFSETTO:+0100
TZNAME:CET
DTSTART:20261025T010000
END:STANDARD
BEGIN:DAYLIGHT
TZOFFSETFROM:+0100
TZOFFSETTO:+0200
TZNAME:CEST
DTSTART:20270328T010000
END:DAYLIGHT
BEGIN:STANDARD
TZOFFSETFROM:+0200
TZOFFSETTO:+0100
TZNAME:CET
DTSTART:20271031T010000
END:STANDARD
END:VTIMEZONE
BEGIN:VEVENT
DTSTART;TZID=Europe/Berlin:20260803T090000
DTEND;TZID=Europe/Berlin:20260803T120000
DTSTAMP:20260422T011859
CREATED:20260203T160243Z
LAST-MODIFIED:20260220T091441Z
UID:1197-1785747600-1785758400@seniorenbeirat-herten.de
SUMMARY:Miteinander im Gespräch
DESCRIPTION:
URL:https://seniorenbeirat-herten.de/event/miteinander-im-gespraech-5/
LOCATION:Bürgerhaus Herten\, Hans-Senkel-Platz 1\, Herten\, 45699
END:VEVENT
BEGIN:VEVENT
DTSTART;TZID=Europe/Berlin:20260812T150000
DTEND;TZID=Europe/Berlin:20260812T170000
DTSTAMP:20260422T011859
CREATED:20260203T142801Z
LAST-MODIFIED:20260205T162957Z
UID:1140-1786546800-1786554000@seniorenbeirat-herten.de
SUMMARY:Arbeitstreffen des Senioren­beirates
DESCRIPTION:
URL:https://seniorenbeirat-herten.de/event/arbeitstreffen-des-seniorenbeirates-6/
LOCATION:Bürgerhaus Herten\, Hans-Senkel-Platz 1\, Herten\, 45699
END:VEVENT
BEGIN:VEVENT
DTSTART;TZID=Europe/Berlin:20260818T100000
DTEND;TZID=Europe/Berlin:20260818T120000
DTSTAMP:20260422T011859
CREATED:20260204T103850Z
LAST-MODIFIED:20260204T103850Z
UID:1262-1787047200-1787054400@seniorenbeirat-herten.de
SUMMARY:Plauderstunde in Scherlebeck
DESCRIPTION:
URL:https://seniorenbeirat-herten.de/event/plauderstunde-in-scherlebeck-7/
LOCATION:Café im Wohn- und Pflegezentrum Gertrudenau\, Scherlebecker Str. 264\, Herten\, 45701
END:VEVENT
BEGIN:VEVENT
DTSTART;TZID=Europe/Berlin:20260820T150000
DTEND;TZID=Europe/Berlin:20260820T170000
DTSTAMP:20260422T011859
CREATED:20260205T154627Z
LAST-MODIFIED:20260205T154627Z
UID:1330-1787238000-1787245200@seniorenbeirat-herten.de
SUMMARY:Technik­stammtisch
DESCRIPTION:
URL:https://seniorenbeirat-herten.de/event/technikstammtisch-7/
LOCATION:Bürgerhaus Herten\, Hans-Senkel-Platz 1\, Herten\, 45699
END:VEVENT
BEGIN:VEVENT
DTSTART;TZID=Europe/Berlin:20260824T100000
DTEND;TZID=Europe/Berlin:20260824T120000
DTSTAMP:20260422T011900
CREATED:20260216T170751Z
LAST-MODIFIED:20260216T170751Z
UID:1459-1787565600-1787572800@seniorenbeirat-herten.de
SUMMARY:Plauderstübchen am Paschenberg
DESCRIPTION:
URL:https://seniorenbeirat-herten.de/event/plauderstuebchen-am-paschenberg-7/
LOCATION:Projektraum\, Feldstrasse 125\, Herten\, 45699\, Germany
END:VEVENT
BEGIN:VEVENT
DTSTART;TZID=Europe/Berlin:20260826T150000
DTEND;TZID=Europe/Berlin:20260826T170000
DTSTAMP:20260422T011900
CREATED:20260203T165701Z
LAST-MODIFIED:20260203T165701Z
UID:1224-1787756400-1787763600@seniorenbeirat-herten.de
SUMMARY:Hilfe beim Umgang mit Handy\, Tablet und Smartphone
DESCRIPTION:
URL:https://seniorenbeirat-herten.de/event/hilfe-beim-umgang-mit-handy-tablet-und-smartphone-6/
LOCATION:Café im Wohn- und Pflegezentrum Gertrudenau\, Scherlebecker Str. 264\, Herten\, 45701
END:VEVENT
END:VCALENDAR