BEGIN:VCALENDAR
VERSION:2.0
PRODID:-//Seniorenbeirat Stadt Herten - ECPv6.15.20//NONSGML v1.0//EN
CALSCALE:GREGORIAN
METHOD:PUBLISH
X-ORIGINAL-URL:https://seniorenbeirat-herten.de
X-WR-CALDESC:Veranstaltungen für Seniorenbeirat Stadt Herten
REFRESH-INTERVAL;VALUE=DURATION:PT1H
X-Robots-Tag:noindex
X-PUBLISHED-TTL:PT1H
BEGIN:VTIMEZONE
TZID:Europe/Berlin
BEGIN:DAYLIGHT
TZOFFSETFROM:+0100
TZOFFSETTO:+0200
TZNAME:CEST
DTSTART:20250330T010000
END:DAYLIGHT
BEGIN:STANDARD
TZOFFSETFROM:+0200
TZOFFSETTO:+0100
TZNAME:CET
DTSTART:20251026T010000
END:STANDARD
BEGIN:DAYLIGHT
TZOFFSETFROM:+0100
TZOFFSETTO:+0200
TZNAME:CEST
DTSTART:20260329T010000
END:DAYLIGHT
BEGIN:STANDARD
TZOFFSETFROM:+0200
TZOFFSETTO:+0100
TZNAME:CET
DTSTART:20261025T010000
END:STANDARD
BEGIN:DAYLIGHT
TZOFFSETFROM:+0100
TZOFFSETTO:+0200
TZNAME:CEST
DTSTART:20270328T010000
END:DAYLIGHT
BEGIN:STANDARD
TZOFFSETFROM:+0200
TZOFFSETTO:+0100
TZNAME:CET
DTSTART:20271031T010000
END:STANDARD
END:VTIMEZONE
BEGIN:VEVENT
DTSTART;TZID=Europe/Berlin:20260703T090000
DTEND;TZID=Europe/Berlin:20260703T120000
DTSTAMP:20260421T234909
CREATED:20260203T153556Z
LAST-MODIFIED:20260220T091843Z
UID:1193-1783069200-1783080000@seniorenbeirat-herten.de
SUMMARY:Miteinander im Gespräch
DESCRIPTION:
URL:https://seniorenbeirat-herten.de/event/miteinander-im-gespraech-6/
LOCATION:RaumZeit im Glashaus Herten\, Hermannstrasse 16\, Herten\, 45699
END:VEVENT
BEGIN:VEVENT
DTSTART;TZID=Europe/Berlin:20260706T090000
DTEND;TZID=Europe/Berlin:20260706T120000
DTSTAMP:20260421T234909
CREATED:20260203T153719Z
LAST-MODIFIED:20260220T093721Z
UID:1195-1783328400-1783339200@seniorenbeirat-herten.de
SUMMARY:Miteinander im Gespräch
DESCRIPTION:
URL:https://seniorenbeirat-herten.de/event/miteinander-im-gespraech-16/
LOCATION:Bürgerhaus Herten\, Hans-Senkel-Platz 1\, Herten\, 45699
END:VEVENT
BEGIN:VEVENT
DTSTART;TZID=Europe/Berlin:20260708T150000
DTEND;TZID=Europe/Berlin:20260708T170000
DTSTAMP:20260421T234909
CREATED:20260203T142624Z
LAST-MODIFIED:20260205T163006Z
UID:1138-1783522800-1783530000@seniorenbeirat-herten.de
SUMMARY:Arbeitstreffen des Senioren­beirates
DESCRIPTION:
URL:https://seniorenbeirat-herten.de/event/arbeitstreffen-des-seniorenbeirates-4/
LOCATION:Bürgerhaus Herten\, Hans-Senkel-Platz 1\, Herten\, 45699
END:VEVENT
BEGIN:VEVENT
DTSTART;TZID=Europe/Berlin:20260716T150000
DTEND;TZID=Europe/Berlin:20260716T170000
DTSTAMP:20260421T234909
CREATED:20260205T154531Z
LAST-MODIFIED:20260205T154531Z
UID:1328-1784214000-1784221200@seniorenbeirat-herten.de
SUMMARY:Technik­stammtisch
DESCRIPTION:
URL:https://seniorenbeirat-herten.de/event/technikstammtisch-6/
LOCATION:Bürgerhaus Herten\, Hans-Senkel-Platz 1\, Herten\, 45699
END:VEVENT
BEGIN:VEVENT
DTSTART;TZID=Europe/Berlin:20260717T150000
DTEND;TZID=Europe/Berlin:20260717T170000
DTSTAMP:20260421T234909
CREATED:20260203T150618Z
LAST-MODIFIED:20260203T150618Z
UID:1163-1784300400-1784307600@seniorenbeirat-herten.de
SUMMARY:PlauderCafé in Westerholt
DESCRIPTION:
URL:https://seniorenbeirat-herten.de/event/plaudercafe-in-westerholt-6/
LOCATION:Caféthek der FBW\, Kuhstrasse 49\, Herten\, 45701
END:VEVENT
BEGIN:VEVENT
DTSTART;TZID=Europe/Berlin:20260721T100000
DTEND;TZID=Europe/Berlin:20260721T120000
DTSTAMP:20260421T234909
CREATED:20260204T103804Z
LAST-MODIFIED:20260204T103804Z
UID:1260-1784628000-1784635200@seniorenbeirat-herten.de
SUMMARY:Plauderstunde in Scherlebeck
DESCRIPTION:
URL:https://seniorenbeirat-herten.de/event/plauderstunde-in-scherlebeck-6/
LOCATION:Café im Wohn- und Pflegezentrum Gertrudenau\, Scherlebecker Str. 264\, Herten\, 45701
END:VEVENT
BEGIN:VEVENT
DTSTART;TZID=Europe/Berlin:20260722T150000
DTEND;TZID=Europe/Berlin:20260722T170000
DTSTAMP:20260421T234909
CREATED:20260203T165256Z
LAST-MODIFIED:20260203T165256Z
UID:1222-1784732400-1784739600@seniorenbeirat-herten.de
SUMMARY:Hilfe beim Umgang mit Handy\, Tablet und Smartphone
DESCRIPTION:
URL:https://seniorenbeirat-herten.de/event/hilfe-beim-umgang-mit-handy-tablet-und-smartphone-5/
LOCATION:Café im Wohn- und Pflegezentrum Gertrudenau\, Scherlebecker Str. 264\, Herten\, 45701
END:VEVENT
BEGIN:VEVENT
DTSTART;TZID=Europe/Berlin:20260727T100000
DTEND;TZID=Europe/Berlin:20260727T120000
DTSTAMP:20260421T234909
CREATED:20260216T170707Z
LAST-MODIFIED:20260216T170707Z
UID:1457-1785146400-1785153600@seniorenbeirat-herten.de
SUMMARY:Plauderstübchen am Paschenberg
DESCRIPTION:
URL:https://seniorenbeirat-herten.de/event/plauderstuebchen-am-paschenberg-6/
LOCATION:Projektraum\, Feldstrasse 125\, Herten\, 45699\, Germany
END:VEVENT
END:VCALENDAR