BEGIN:VCALENDAR
VERSION:2.0
PRODID:-//Seniorenbeirat Stadt Herten - ECPv6.15.20//NONSGML v1.0//EN
CALSCALE:GREGORIAN
METHOD:PUBLISH
X-WR-CALNAME:Seniorenbeirat Stadt Herten
X-ORIGINAL-URL:https://seniorenbeirat-herten.de
X-WR-CALDESC:Veranstaltungen für Seniorenbeirat Stadt Herten
REFRESH-INTERVAL;VALUE=DURATION:PT1H
X-Robots-Tag:noindex
X-PUBLISHED-TTL:PT1H
BEGIN:VTIMEZONE
TZID:Europe/Berlin
BEGIN:DAYLIGHT
TZOFFSETFROM:+0100
TZOFFSETTO:+0200
TZNAME:CEST
DTSTART:20250330T010000
END:DAYLIGHT
BEGIN:STANDARD
TZOFFSETFROM:+0200
TZOFFSETTO:+0100
TZNAME:CET
DTSTART:20251026T010000
END:STANDARD
BEGIN:DAYLIGHT
TZOFFSETFROM:+0100
TZOFFSETTO:+0200
TZNAME:CEST
DTSTART:20260329T010000
END:DAYLIGHT
BEGIN:STANDARD
TZOFFSETFROM:+0200
TZOFFSETTO:+0100
TZNAME:CET
DTSTART:20261025T010000
END:STANDARD
BEGIN:DAYLIGHT
TZOFFSETFROM:+0100
TZOFFSETTO:+0200
TZNAME:CEST
DTSTART:20270328T010000
END:DAYLIGHT
BEGIN:STANDARD
TZOFFSETFROM:+0200
TZOFFSETTO:+0100
TZNAME:CET
DTSTART:20271031T010000
END:STANDARD
END:VTIMEZONE
BEGIN:VEVENT
DTSTART;TZID=Europe/Berlin:20260601T090000
DTEND;TZID=Europe/Berlin:20260601T120000
DTSTAMP:20260421T233304
CREATED:20260203T152719Z
LAST-MODIFIED:20260220T092208Z
UID:1188-1780304400-1780315200@seniorenbeirat-herten.de
SUMMARY:Miteinander im Gespräch
DESCRIPTION:
URL:https://seniorenbeirat-herten.de/event/miteinander-im-gespraech-8/
LOCATION:Bürgerhaus Herten\, Hans-Senkel-Platz 1\, Herten\, 45699
END:VEVENT
BEGIN:VEVENT
DTSTART;TZID=Europe/Berlin:20260602T170000
DTEND;TZID=Europe/Berlin:20260602T190000
DTSTAMP:20260421T233304
CREATED:20260203T134321Z
LAST-MODIFIED:20260205T163020Z
UID:1117-1780419600-1780426800@seniorenbeirat-herten.de
SUMMARY:Sitzung des Senioren­beirates
DESCRIPTION:
URL:https://seniorenbeirat-herten.de/event/sitzung-des-seniorenbeirates-2/
LOCATION:Rathaus Herten\, Grosser Sitzungssaal\, Kurt-Schumacher-Str. 2-4\, Herten\, 45699
END:VEVENT
BEGIN:VEVENT
DTSTART;TZID=Europe/Berlin:20260605T100000
DTEND;TZID=Europe/Berlin:20260605T120000
DTSTAMP:20260421T233304
CREATED:20260203T153115Z
LAST-MODIFIED:20260220T092102Z
UID:1190-1780653600-1780660800@seniorenbeirat-herten.de
SUMMARY:Miteinander im Gespräch
DESCRIPTION:
URL:https://seniorenbeirat-herten.de/event/miteinander-im-gespraech-7/
LOCATION:RaumZeit im Glashaus Herten\, Hermannstrasse 16\, Herten\, 45699
END:VEVENT
BEGIN:VEVENT
DTSTART;TZID=Europe/Berlin:20260610T150000
DTEND;TZID=Europe/Berlin:20260610T170000
DTSTAMP:20260421T233304
CREATED:20260203T142153Z
LAST-MODIFIED:20260205T163012Z
UID:1135-1781103600-1781110800@seniorenbeirat-herten.de
SUMMARY:Arbeitstreffen des Senioren­beirates
DESCRIPTION:
URL:https://seniorenbeirat-herten.de/event/arbeitstreffen-des-seniorenbeirates-5/
LOCATION:Bürgerhaus Herten\, Hans-Senkel-Platz 1\, Herten\, 45699
END:VEVENT
BEGIN:VEVENT
DTSTART;TZID=Europe/Berlin:20260611T100000
DTEND;TZID=Europe/Berlin:20260611T120000
DTSTAMP:20260421T233304
CREATED:20260413T201259Z
LAST-MODIFIED:20260413T201259Z
UID:1834-1781172000-1781179200@seniorenbeirat-herten.de
SUMMARY:Frühstück bei „Waldritter“
DESCRIPTION:Anmeldung bei Carmen Muhs unter Tel.: 0151-23597973 oder carmen.muhs@waldritter.de\, \nKosten für Mitglieder des Vereins Aktive Senioren Herten e.V.: 6 €
URL:https://seniorenbeirat-herten.de/event/fruehstueck-bei-waldritter-2/
LOCATION:Waldritter\, Ewaldstrasße 20\, Herten\, 45699\, Germany
END:VEVENT
BEGIN:VEVENT
DTSTART;TZID=Europe/Berlin:20260615T100000
DTEND;TZID=Europe/Berlin:20260615T110000
DTSTAMP:20260421T233304
CREATED:20260413T193743Z
LAST-MODIFIED:20260413T193743Z
UID:1805-1781517600-1781521200@seniorenbeirat-herten.de
SUMMARY:Sport/Hockergymnastik
DESCRIPTION:Anmeldung bei Ute Orlowski unter Tel.: 02366-84433 oder ute.orlowski@gmx.de\, \nKosten für Mitglieder des Vereins Aktive Senioren Herten e.V.: 50€ pro Halbjahr
URL:https://seniorenbeirat-herten.de/event/sport-hockergymnastik-6/
LOCATION:Bürgerhaus Herten\, Hans-Senkel-Platz 1\, Herten\, 45699
END:VEVENT
BEGIN:VEVENT
DTSTART;TZID=Europe/Berlin:20260615T190000
DTEND;TZID=Europe/Berlin:20260615T210000
DTSTAMP:20260421T233304
CREATED:20260413T200550Z
LAST-MODIFIED:20260413T200550Z
UID:1828-1781550000-1781557200@seniorenbeirat-herten.de
SUMMARY:Billiard
DESCRIPTION:Anmeldung bei Carmen Muhs unter Tel.: 0151-23597973 oder carmen.muhs@waldritter.de\, \nkostenlos für Mitglieder des Vereins Aktive Senioren Herten e.V.\, (Jahresbeitrag: 30 €) \n 
URL:https://seniorenbeirat-herten.de/event/billiard-3/
LOCATION:Jugendtreff\, Ewaldstraße 16\, Herten\, 45699
END:VEVENT
BEGIN:VEVENT
DTSTART;TZID=Europe/Berlin:20260616T100000
DTEND;TZID=Europe/Berlin:20260616T120000
DTSTAMP:20260421T233304
CREATED:20260204T103545Z
LAST-MODIFIED:20260204T103545Z
UID:1258-1781604000-1781611200@seniorenbeirat-herten.de
SUMMARY:Plauderstunde in Scherlebeck
DESCRIPTION:
URL:https://seniorenbeirat-herten.de/event/plauderstunde-in-scherlebeck-5/
LOCATION:Café im Wohn- und Pflegezentrum Gertrudenau\, Scherlebecker Str. 264\, Herten\, 45701
END:VEVENT
BEGIN:VEVENT
DTSTART;TZID=Europe/Berlin:20260617T150000
DTEND;TZID=Europe/Berlin:20260617T163000
DTSTAMP:20260421T233304
CREATED:20260403T105317Z
LAST-MODIFIED:20260413T202234Z
UID:1752-1781708400-1781713800@seniorenbeirat-herten.de
SUMMARY:Gesundheits­stammtisch: Ernährung - ein Baustein für gesundes Altern
DESCRIPTION:
URL:https://seniorenbeirat-herten.de/event/gesundheitsstammtisch-rund-um-das-thema-ernaehrung/
LOCATION:Bürgerhaus Herten\, Hans-Senkel-Platz 1\, Herten\, 45699
END:VEVENT
BEGIN:VEVENT
DTSTART;TZID=Europe/Berlin:20260617T150000
DTEND;TZID=Europe/Berlin:20260617T170000
DTSTAMP:20260421T233304
CREATED:20260413T201642Z
LAST-MODIFIED:20260413T202647Z
UID:1836-1781708400-1781715600@seniorenbeirat-herten.de
SUMMARY:Vortrag Patientenverfügung/Info Vorsorgevollmacht
DESCRIPTION:Anmeldung bei Ute Orlowski unter Tel.: 02366-84433 oder ute.orlowski@gmx.de;
URL:https://seniorenbeirat-herten.de/event/vortrag-patientenverfuegung-info-vorsorgevollmacht/
LOCATION:Ludothek\, Ewaldstraße 20\, 45699\, 45699\, Germany
END:VEVENT
BEGIN:VEVENT
DTSTART;TZID=Europe/Berlin:20260618T150000
DTEND;TZID=Europe/Berlin:20260618T170000
DTSTAMP:20260421T233304
CREATED:20260205T154436Z
LAST-MODIFIED:20260205T154436Z
UID:1326-1781794800-1781802000@seniorenbeirat-herten.de
SUMMARY:Technik­stammtisch
DESCRIPTION:
URL:https://seniorenbeirat-herten.de/event/technikstammtisch-5/
LOCATION:Bürgerhaus Herten\, Hans-Senkel-Platz 1\, Herten\, 45699
END:VEVENT
BEGIN:VEVENT
DTSTART;TZID=Europe/Berlin:20260619T150000
DTEND;TZID=Europe/Berlin:20260619T170000
DTSTAMP:20260421T233304
CREATED:20260203T150304Z
LAST-MODIFIED:20260203T150304Z
UID:1161-1781881200-1781888400@seniorenbeirat-herten.de
SUMMARY:PlauderCafé in Westerholt
DESCRIPTION:
URL:https://seniorenbeirat-herten.de/event/plaudercafe-in-westerholt-5/
LOCATION:Caféthek der FBW\, Kuhstrasse 49\, Herten\, 45701
END:VEVENT
BEGIN:VEVENT
DTSTART;TZID=Europe/Berlin:20260622T100000
DTEND;TZID=Europe/Berlin:20260622T110000
DTSTAMP:20260421T233304
CREATED:20260413T194029Z
LAST-MODIFIED:20260413T194029Z
UID:1810-1782122400-1782126000@seniorenbeirat-herten.de
SUMMARY:Sport/Hockergymnastik
DESCRIPTION:Anmeldung bei Ute Orlowski unter Tel.: 02366-84433 oder ute.orlowski@gmx.de\, \nKosten für Mitglieder des Vereins Aktive Senioren Herten e.V.: 50€ pro Halbjahr
URL:https://seniorenbeirat-herten.de/event/sport-hockergymnastik-7/
LOCATION:Bürgerhaus Herten\, Hans-Senkel-Platz 1\, Herten\, 45699
END:VEVENT
BEGIN:VEVENT
DTSTART;TZID=Europe/Berlin:20260622T100000
DTEND;TZID=Europe/Berlin:20260622T120000
DTSTAMP:20260421T233304
CREATED:20260216T170604Z
LAST-MODIFIED:20260216T170604Z
UID:1455-1782122400-1782129600@seniorenbeirat-herten.de
SUMMARY:Plauderstübchen am Paschenberg
DESCRIPTION:
URL:https://seniorenbeirat-herten.de/event/plauderstuebchen-am-paschenberg-5/
LOCATION:Projektraum\, Feldstrasse 125\, Herten\, 45699\, Germany
END:VEVENT
BEGIN:VEVENT
DTSTART;TZID=Europe/Berlin:20260624T150000
DTEND;TZID=Europe/Berlin:20260624T170000
DTSTAMP:20260421T233304
CREATED:20260203T165019Z
LAST-MODIFIED:20260203T165019Z
UID:1220-1782313200-1782320400@seniorenbeirat-herten.de
SUMMARY:Hilfe beim Umgang mit Handy\, Tablet und Smartphone
DESCRIPTION:
URL:https://seniorenbeirat-herten.de/event/hilfe-beim-umgang-mit-handy-tablet-und-smartphone-4/
LOCATION:Café im Wohn- und Pflegezentrum Gertrudenau\, Scherlebecker Str. 264\, Herten\, 45701
END:VEVENT
BEGIN:VEVENT
DTSTART;TZID=Europe/Berlin:20260624T150000
DTEND;TZID=Europe/Berlin:20260624T170000
DTSTAMP:20260421T233304
CREATED:20260413T200101Z
LAST-MODIFIED:20260413T200101Z
UID:1824-1782313200-1782320400@seniorenbeirat-herten.de
SUMMARY:Spiel und Spaß - Brett- und Kartenspiele
DESCRIPTION:Anmeldung bei Carmen Muhs unter Tel.: 0151-23597973 oder carmen.muhs@waldritter.de\, \nkostenlos für Mitglieder des Vereins Aktive Senioren Herten e.V.\, (Jahresbeitrag: 30 €) \n 
URL:https://seniorenbeirat-herten.de/event/spiel-und-spass-brett-und-kartenspiele/
LOCATION:Ludothek\, Ewaldstraße 20\, 45699\, 45699\, Germany
END:VEVENT
BEGIN:VEVENT
DTSTART;TZID=Europe/Berlin:20260629T100000
DTEND;TZID=Europe/Berlin:20260629T110000
DTSTAMP:20260421T233304
CREATED:20260413T194114Z
LAST-MODIFIED:20260413T194114Z
UID:1811-1782727200-1782730800@seniorenbeirat-herten.de
SUMMARY:Sport/Hockergymnastik
DESCRIPTION:Anmeldung bei Ute Orlowski unter Tel.: 02366-84433 oder ute.orlowski@gmx.de\, \nKosten für Mitglieder des Vereins Aktive Senioren Herten e.V.: 50€ pro Halbjahr
URL:https://seniorenbeirat-herten.de/event/sport-hockergymnastik-8/
LOCATION:Bürgerhaus Herten\, Hans-Senkel-Platz 1\, Herten\, 45699
END:VEVENT
BEGIN:VEVENT
DTSTART;TZID=Europe/Berlin:20260630T100000
DTEND;TZID=Europe/Berlin:20260630T120000
DTSTAMP:20260421T233304
CREATED:20260413T201824Z
LAST-MODIFIED:20260413T202742Z
UID:1837-1782813600-1782820800@seniorenbeirat-herten.de
SUMMARY:Gedächtnistraining
DESCRIPTION:Anmeldung bei Ute Orlowski unter Tel.: 02366-84433 oder ute.orlowski@gmx.de;
URL:https://seniorenbeirat-herten.de/event/gedaechtnistraining/
LOCATION:Ludothek\, Ewaldstraße 20\, 45699\, 45699\, Germany
END:VEVENT
END:VCALENDAR