BEGIN:VCALENDAR
VERSION:2.0
PRODID:-//Seniorenbeirat Stadt Herten - ECPv6.15.20//NONSGML v1.0//EN
CALSCALE:GREGORIAN
METHOD:PUBLISH
X-ORIGINAL-URL:https://seniorenbeirat-herten.de
X-WR-CALDESC:Veranstaltungen für Seniorenbeirat Stadt Herten
REFRESH-INTERVAL;VALUE=DURATION:PT1H
X-Robots-Tag:noindex
X-PUBLISHED-TTL:PT1H
BEGIN:VTIMEZONE
TZID:Europe/Berlin
BEGIN:DAYLIGHT
TZOFFSETFROM:+0100
TZOFFSETTO:+0200
TZNAME:CEST
DTSTART:20250330T010000
END:DAYLIGHT
BEGIN:STANDARD
TZOFFSETFROM:+0200
TZOFFSETTO:+0100
TZNAME:CET
DTSTART:20251026T010000
END:STANDARD
BEGIN:DAYLIGHT
TZOFFSETFROM:+0100
TZOFFSETTO:+0200
TZNAME:CEST
DTSTART:20260329T010000
END:DAYLIGHT
BEGIN:STANDARD
TZOFFSETFROM:+0200
TZOFFSETTO:+0100
TZNAME:CET
DTSTART:20261025T010000
END:STANDARD
BEGIN:DAYLIGHT
TZOFFSETFROM:+0100
TZOFFSETTO:+0200
TZNAME:CEST
DTSTART:20270328T010000
END:DAYLIGHT
BEGIN:STANDARD
TZOFFSETFROM:+0200
TZOFFSETTO:+0100
TZNAME:CET
DTSTART:20271031T010000
END:STANDARD
END:VTIMEZONE
BEGIN:VEVENT
DTSTART;TZID=Europe/Berlin:20260504T090000
DTEND;TZID=Europe/Berlin:20260504T120000
DTSTAMP:20260421T215945
CREATED:20260203T152551Z
LAST-MODIFIED:20260220T093022Z
UID:1186-1777885200-1777896000@seniorenbeirat-herten.de
SUMMARY:Miteinander im Gespräch
DESCRIPTION:
URL:https://seniorenbeirat-herten.de/event/miteinander-im-gespraech-15/
LOCATION:Bürgerhaus Herten\, Hans-Senkel-Platz 1\, Herten\, 45699
END:VEVENT
BEGIN:VEVENT
DTSTART;TZID=Europe/Berlin:20260504T100000
DTEND;TZID=Europe/Berlin:20260504T110000
DTSTAMP:20260421T215945
CREATED:20260413T193427Z
LAST-MODIFIED:20260413T193427Z
UID:1801-1777888800-1777892400@seniorenbeirat-herten.de
SUMMARY:Sport/Hockergymnastik
DESCRIPTION:Anmeldung bei Ute Orlowski unter Tel.: 02366-84433 oder ute.orlowski@gmx.de\, \nKosten für Mitglieder des Vereins Aktive Senioren Herten e.V.: 50€ pro Halbjahr
URL:https://seniorenbeirat-herten.de/event/sport-hockergymnastik-3/
LOCATION:Bürgerhaus Herten\, Hans-Senkel-Platz 1\, Herten\, 45699
END:VEVENT
BEGIN:VEVENT
DTSTART;TZID=Europe/Berlin:20260504T190000
DTEND;TZID=Europe/Berlin:20260504T210000
DTSTAMP:20260421T215945
CREATED:20260413T200526Z
LAST-MODIFIED:20260413T200526Z
UID:1827-1777921200-1777928400@seniorenbeirat-herten.de
SUMMARY:Billiard
DESCRIPTION:Anmeldung bei Carmen Muhs unter Tel.: 0151-23597973 oder carmen.muhs@waldritter.de\, \nkostenlos für Mitglieder des Vereins Aktive Senioren Herten e.V.\, (Jahresbeitrag: 30 €) \n 
URL:https://seniorenbeirat-herten.de/event/billiard-2/
LOCATION:Jugendtreff\, Ewaldstraße 16\, Herten\, 45699
END:VEVENT
BEGIN:VEVENT
DTSTART;TZID=Europe/Berlin:20260508T100000
DTEND;TZID=Europe/Berlin:20260508T120000
DTSTAMP:20260421T215945
CREATED:20260203T162239Z
LAST-MODIFIED:20260220T092324Z
UID:1208-1778234400-1778241600@seniorenbeirat-herten.de
SUMMARY:Miteinander im Gespräch
DESCRIPTION:
URL:https://seniorenbeirat-herten.de/event/miteinander-im-gespraech-9/
LOCATION:RaumZeit im Glashaus Herten\, Hermannstrasse 16\, Herten\, 45699
END:VEVENT
BEGIN:VEVENT
DTSTART;TZID=Europe/Berlin:20260508T150000
DTEND;TZID=Europe/Berlin:20260508T170000
DTSTAMP:20260421T215945
CREATED:20260203T150209Z
LAST-MODIFIED:20260203T154956Z
UID:1159-1778252400-1778259600@seniorenbeirat-herten.de
SUMMARY:PlauderCafé in Westerholt
DESCRIPTION:
URL:https://seniorenbeirat-herten.de/event/plaudercafe-in-westerholt-4/
LOCATION:Caféthek der FBW\, Kuhstrasse 49\, Herten\, 45701
END:VEVENT
BEGIN:VEVENT
DTSTART;TZID=Europe/Berlin:20260511T100000
DTEND;TZID=Europe/Berlin:20260511T110000
DTSTAMP:20260421T215945
CREATED:20260413T193528Z
LAST-MODIFIED:20260413T193528Z
UID:1802-1778493600-1778497200@seniorenbeirat-herten.de
SUMMARY:Sport/Hockergymnastik
DESCRIPTION:Anmeldung bei Ute Orlowski unter Tel.: 02366-84433 oder ute.orlowski@gmx.de\, \nKosten für Mitglieder des Vereins Aktive Senioren Herten e.V.: 50€ pro Halbjahr
URL:https://seniorenbeirat-herten.de/event/sport-hockergymnastik-4/
LOCATION:Bürgerhaus Herten\, Hans-Senkel-Platz 1\, Herten\, 45699
END:VEVENT
BEGIN:VEVENT
DTSTART;TZID=Europe/Berlin:20260513T150000
DTEND;TZID=Europe/Berlin:20260513T170000
DTSTAMP:20260421T215945
CREATED:20260203T140515Z
LAST-MODIFIED:20260205T163037Z
UID:1127-1778684400-1778691600@seniorenbeirat-herten.de
SUMMARY:Arbeitstreffen des Senioren­beirates
DESCRIPTION:
URL:https://seniorenbeirat-herten.de/event/arbeitstreffen-des-seniorenbeirates-2/
LOCATION:Bürgerhaus Herten\, Hans-Senkel-Platz 1\, Herten\, 45699
END:VEVENT
BEGIN:VEVENT
DTSTART;TZID=Europe/Berlin:20260513T170000
DTEND;TZID=Europe/Berlin:20260513T180000
DTSTAMP:20260421T215945
CREATED:20260203T133003Z
LAST-MODIFIED:20260203T133003Z
UID:1111-1778691600-1778695200@seniorenbeirat-herten.de
SUMMARY:Yoga auf dem Stuhl
DESCRIPTION:
URL:https://seniorenbeirat-herten.de/event/yoga-auf-dem-stuhl-4/
LOCATION:Bürgerhaus Herten\, Hans-Senkel-Platz 1\, Herten\, 45699
END:VEVENT
BEGIN:VEVENT
DTSTART;TZID=Europe/Berlin:20260514T100000
DTEND;TZID=Europe/Berlin:20260514T120000
DTSTAMP:20260421T215945
CREATED:20260413T201050Z
LAST-MODIFIED:20260413T201050Z
UID:1831-1778752800-1778760000@seniorenbeirat-herten.de
SUMMARY:Frühstück bei „Waldritter“
DESCRIPTION:Anmeldung bei Carmen Muhs unter Tel.: 0151-23597973 oder carmen.muhs@waldritter.de\, \nKosten für Mitglieder des Vereins Aktive Senioren Herten e.V.: 7 €
URL:https://seniorenbeirat-herten.de/event/fruehstueck-bei-waldritter/
LOCATION:Waldritter\, Ewaldstrasße 20\, Herten\, 45699\, Germany
END:VEVENT
BEGIN:VEVENT
DTSTART;TZID=Europe/Berlin:20260518T100000
DTEND;TZID=Europe/Berlin:20260518T113000
DTSTAMP:20260421T215945
CREATED:20260413T193626Z
LAST-MODIFIED:20260413T193626Z
UID:1804-1779098400-1779103800@seniorenbeirat-herten.de
SUMMARY:Sport/Hockergymnastik
DESCRIPTION:Anmeldung bei Ute Orlowski unter Tel.: 02366-84433 oder ute.orlowski@gmx.de\, \nKosten für Mitglieder des Vereins Aktive Senioren Herten e.V.: 50€ pro Halbjahr
URL:https://seniorenbeirat-herten.de/event/sport-hockergymnastik-5/
LOCATION:Bürgerhaus Herten\, Hans-Senkel-Platz 1\, Herten\, 45699
END:VEVENT
BEGIN:VEVENT
DTSTART;TZID=Europe/Berlin:20260519T100000
DTEND;TZID=Europe/Berlin:20260519T120000
DTSTAMP:20260421T215945
CREATED:20260204T103454Z
LAST-MODIFIED:20260204T103454Z
UID:1256-1779184800-1779192000@seniorenbeirat-herten.de
SUMMARY:Plauderstunde in Scherlebeck
DESCRIPTION:
URL:https://seniorenbeirat-herten.de/event/plauderstunde-in-scherlebeck-4/
LOCATION:Café im Wohn- und Pflegezentrum Gertrudenau\, Scherlebecker Str. 264\, Herten\, 45701
END:VEVENT
BEGIN:VEVENT
DTSTART;TZID=Europe/Berlin:20260521T150000
DTEND;TZID=Europe/Berlin:20260521T170000
DTSTAMP:20260421T215945
CREATED:20260205T154344Z
LAST-MODIFIED:20260205T154344Z
UID:1324-1779375600-1779382800@seniorenbeirat-herten.de
SUMMARY:Technik­stammtisch
DESCRIPTION:
URL:https://seniorenbeirat-herten.de/event/technikstammtisch-4/
LOCATION:Bürgerhaus Herten\, Hans-Senkel-Platz 1\, Herten\, 45699
END:VEVENT
BEGIN:VEVENT
DTSTART;TZID=Europe/Berlin:20260527T150000
DTEND;TZID=Europe/Berlin:20260527T170000
DTSTAMP:20260421T215945
CREATED:20260203T164838Z
LAST-MODIFIED:20260203T164838Z
UID:1218-1779894000-1779901200@seniorenbeirat-herten.de
SUMMARY:Hilfe beim Umgang mit Handy\, Tablet und Smartphone
DESCRIPTION:
URL:https://seniorenbeirat-herten.de/event/hilfe-beim-umgang-mit-handy-tablet-und-smartphone-3/
LOCATION:Café im Wohn- und Pflegezentrum Gertrudenau\, Scherlebecker Str. 264\, Herten\, 45701
END:VEVENT
BEGIN:VEVENT
DTSTART;TZID=Europe/Berlin:20260527T150000
DTEND;TZID=Europe/Berlin:20260527T170000
DTSTAMP:20260421T215945
CREATED:20260413T200124Z
LAST-MODIFIED:20260413T200124Z
UID:1823-1779894000-1779901200@seniorenbeirat-herten.de
SUMMARY:Spiel und Spaß - Brett- und Kartenspiele
DESCRIPTION:Anmeldung bei Carmen Muhs unter Tel.: 0151-23597973 oder carmen.muhs@waldritter.de\, \nkostenlos für Mitglieder des Vereins Aktive Senioren Herten e.V.\, (Jahresbeitrag: 30 €) \n 
URL:https://seniorenbeirat-herten.de/event/spiel-und-spass-brett-und-kartenspiele-2/
LOCATION:Ludothek\, Ewaldstraße 20\, 45699\, 45699\, Germany
END:VEVENT
BEGIN:VEVENT
DTSTART;TZID=Europe/Berlin:20260529T173000
DTEND;TZID=Europe/Berlin:20260529T203000
DTSTAMP:20260421T215945
CREATED:20260203T130831Z
LAST-MODIFIED:20260203T131131Z
UID:1096-1780075800-1780086600@seniorenbeirat-herten.de
SUMMARY:Ü60 Party
DESCRIPTION:
URL:https://seniorenbeirat-herten.de/event/ue60-party-3/
LOCATION:Bürgerhaus Herten\, Hans-Senkel-Platz 1\, Herten\, 45699
END:VEVENT
END:VCALENDAR