BEGIN:VCALENDAR
VERSION:2.0
PRODID:-//Seniorenbeirat Stadt Herten - ECPv6.15.20//NONSGML v1.0//EN
CALSCALE:GREGORIAN
METHOD:PUBLISH
X-WR-CALNAME:Seniorenbeirat Stadt Herten
X-ORIGINAL-URL:https://seniorenbeirat-herten.de
X-WR-CALDESC:Veranstaltungen für Seniorenbeirat Stadt Herten
REFRESH-INTERVAL;VALUE=DURATION:PT1H
X-Robots-Tag:noindex
X-PUBLISHED-TTL:PT1H
BEGIN:VTIMEZONE
TZID:Europe/Berlin
BEGIN:DAYLIGHT
TZOFFSETFROM:+0100
TZOFFSETTO:+0200
TZNAME:CEST
DTSTART:20250330T010000
END:DAYLIGHT
BEGIN:STANDARD
TZOFFSETFROM:+0200
TZOFFSETTO:+0100
TZNAME:CET
DTSTART:20251026T010000
END:STANDARD
BEGIN:DAYLIGHT
TZOFFSETFROM:+0100
TZOFFSETTO:+0200
TZNAME:CEST
DTSTART:20260329T010000
END:DAYLIGHT
BEGIN:STANDARD
TZOFFSETFROM:+0200
TZOFFSETTO:+0100
TZNAME:CET
DTSTART:20261025T010000
END:STANDARD
BEGIN:DAYLIGHT
TZOFFSETFROM:+0100
TZOFFSETTO:+0200
TZNAME:CEST
DTSTART:20270328T010000
END:DAYLIGHT
BEGIN:STANDARD
TZOFFSETFROM:+0200
TZOFFSETTO:+0100
TZNAME:CET
DTSTART:20271031T010000
END:STANDARD
END:VTIMEZONE
BEGIN:VEVENT
DTSTART;TZID=Europe/Berlin:20260421T100000
DTEND;TZID=Europe/Berlin:20260421T120000
DTSTAMP:20260421T190422
CREATED:20260204T103354Z
LAST-MODIFIED:20260204T103354Z
UID:1254-1776765600-1776772800@seniorenbeirat-herten.de
SUMMARY:Plauderstunde in Scherlebeck
DESCRIPTION:
URL:https://seniorenbeirat-herten.de/event/plauderstunde-in-scherlebeck-3/
LOCATION:Café im Wohn- und Pflegezentrum Gertrudenau\, Scherlebecker Str. 264\, Herten\, 45701
END:VEVENT
BEGIN:VEVENT
DTSTART;TZID=Europe/Berlin:20260420T100000
DTEND;TZID=Europe/Berlin:20260420T110000
DTSTAMP:20260421T190422
CREATED:20260412T124111Z
LAST-MODIFIED:20260413T191127Z
UID:1770-1776679200-1776682800@seniorenbeirat-herten.de
SUMMARY:Sport/Hockergymnastik
DESCRIPTION:Anmeldung bei Ute Orlowski unter Tel.: 02366-84433 oder ute.orlowski@gmx.de\, \nKosten für Mitglieder des Vereins Aktive Senioren Herten e.V.: 50€ pro Halbjahr
URL:https://seniorenbeirat-herten.de/event/sport-hockergymnastik/
LOCATION:Bürgerhaus Herten\, Hans-Senkel-Platz 1\, Herten\, 45699
END:VEVENT
BEGIN:VEVENT
DTSTART;TZID=Europe/Berlin:20260417T173000
DTEND;TZID=Europe/Berlin:20260417T203000
DTSTAMP:20260421T190422
CREATED:20260203T130502Z
LAST-MODIFIED:20260203T130502Z
UID:1091-1776447000-1776457800@seniorenbeirat-herten.de
SUMMARY:Ü60 Party
DESCRIPTION:
URL:https://seniorenbeirat-herten.de/event/ue60-party-2/
LOCATION:Bürgerhaus Herten\, Hans-Senkel-Platz 1\, Herten\, 45699
END:VEVENT
BEGIN:VEVENT
DTSTART;TZID=Europe/Berlin:20260417T150000
DTEND;TZID=Europe/Berlin:20260417T170000
DTSTAMP:20260421T190422
CREATED:20260203T150113Z
LAST-MODIFIED:20260203T150113Z
UID:1157-1776438000-1776445200@seniorenbeirat-herten.de
SUMMARY:PlauderCafé in Westerholt
DESCRIPTION:
URL:https://seniorenbeirat-herten.de/event/plaudercafe-in-westerholt-3/
LOCATION:Caféthek der FBW\, Kuhstrasse 49\, Herten\, 45701
END:VEVENT
BEGIN:VEVENT
DTSTART;TZID=Europe/Berlin:20260416T150000
DTEND;TZID=Europe/Berlin:20260416T170000
DTSTAMP:20260421T190422
CREATED:20260205T154250Z
LAST-MODIFIED:20260205T154250Z
UID:1322-1776351600-1776358800@seniorenbeirat-herten.de
SUMMARY:Technik­stammtisch
DESCRIPTION:
URL:https://seniorenbeirat-herten.de/event/technikstammtisch-3/
LOCATION:Bürgerhaus Herten\, Hans-Senkel-Platz 1\, Herten\, 45699
END:VEVENT
BEGIN:VEVENT
DTSTART;TZID=Europe/Berlin:20260416T130000
DTEND;TZID=Europe/Berlin:20260416T130000
DTSTAMP:20260421T190422
CREATED:20260413T190857Z
LAST-MODIFIED:20260413T195223Z
UID:1788-1776344400-1776344400@seniorenbeirat-herten.de
SUMMARY:Ausflug (inkl. Führung) zur Zeche Zollverein in Essen
DESCRIPTION:Abfahrt mit dem Bus 13:00 Uhr ab Rathaus Herten; weitere Zustiegspunkte : 13:10 Uhr Haltestelle Schloßstrasse\, 13:20 Uhr Langenbochum – ehem. KIK\, 13:30 Uhr Scherlebeck – Flammengrill; \nAnmeldung bei Carmen Muhs unter Tel.: 0151-23597973 oder carmen.muhs@waldritter.de; \nKosten für Mitglieder des Vereins Aktive Senioren Herten e.V.: 25 €; \nGäste sind herzlich willkommen. Kosten 27 € \n 
URL:https://seniorenbeirat-herten.de/event/ausflug-inkl-fuehrung-zur-zeche-zollverein-in-essen/
LOCATION:Zeche Zollverein\, Gelsenkirchener Straße 181\, Essen\, 45309
END:VEVENT
BEGIN:VEVENT
DTSTART;TZID=Europe/Berlin:20260415T170000
DTEND;TZID=Europe/Berlin:20260415T180000
DTSTAMP:20260421T190422
CREATED:20260203T132838Z
LAST-MODIFIED:20260203T132838Z
UID:1109-1776272400-1776276000@seniorenbeirat-herten.de
SUMMARY:Yoga auf dem Stuhl
DESCRIPTION:
URL:https://seniorenbeirat-herten.de/event/yoga-auf-dem-stuhl-3/
LOCATION:Bürgerhaus Herten\, Hans-Senkel-Platz 1\, Herten\, 45699
END:VEVENT
BEGIN:VEVENT
DTSTART;TZID=Europe/Berlin:20260413T190000
DTEND;TZID=Europe/Berlin:20260413T210000
DTSTAMP:20260421T190422
CREATED:20260412T122754Z
LAST-MODIFIED:20260413T191538Z
UID:1763-1776106800-1776114000@seniorenbeirat-herten.de
SUMMARY:Billiard
DESCRIPTION:Anmeldung bei Carmen Muhs unter Tel.: 0151-23597973 oder carmen.muhs@waldritter.de\, \nkostenlos für Mitglieder des Vereins Aktive Senioren Herten e.V.\, (Jahresbeitrag: 30 €) \n 
URL:https://seniorenbeirat-herten.de/event/billiard/
LOCATION:Jugendtreff\, Ewaldstraße 16\, Herten\, 45699
END:VEVENT
BEGIN:VEVENT
DTSTART;TZID=Europe/Berlin:20260413T090000
DTEND;TZID=Europe/Berlin:20260413T120000
DTSTAMP:20260421T190422
CREATED:20260204T111822Z
LAST-MODIFIED:20260220T092924Z
UID:1292-1776070800-1776081600@seniorenbeirat-herten.de
SUMMARY:Miteinander im Gespräch
DESCRIPTION:
URL:https://seniorenbeirat-herten.de/event/miteinander-im-gespraech-14/
LOCATION:Bürgerhaus Herten\, Hans-Senkel-Platz 1\, Herten\, 45699
END:VEVENT
BEGIN:VEVENT
DTSTART;TZID=Europe/Berlin:20260410T100000
DTEND;TZID=Europe/Berlin:20260410T120000
DTSTAMP:20260421T190422
CREATED:20260203T152306Z
LAST-MODIFIED:20260220T092823Z
UID:1184-1775815200-1775822400@seniorenbeirat-herten.de
SUMMARY:Miteinander im Gespräch
DESCRIPTION:
URL:https://seniorenbeirat-herten.de/event/miteinander-im-gespraech-13/
LOCATION:RaumZeit im Glashaus Herten\, Hermannstrasse 16\, Herten\, 45699
END:VEVENT
BEGIN:VEVENT
DTSTART;TZID=Europe/Berlin:20260408T150000
DTEND;TZID=Europe/Berlin:20260408T170000
DTSTAMP:20260421T190422
CREATED:20260203T141723Z
LAST-MODIFIED:20260205T163208Z
UID:1130-1775660400-1775667600@seniorenbeirat-herten.de
SUMMARY:Arbeitstreffen des Senioren­beirates
DESCRIPTION:
URL:https://seniorenbeirat-herten.de/event/arbeitstreffen-des-seniorenbeirates-3/
LOCATION:Bürgerhaus Herten\, Hans-Senkel-Platz 1\, Herten\, 45699
END:VEVENT
BEGIN:VEVENT
DTSTART;TZID=Europe/Berlin:20260326T140000
DTEND;TZID=Europe/Berlin:20260326T170000
DTSTAMP:20260421T190422
CREATED:20260203T123759Z
LAST-MODIFIED:20260203T154616Z
UID:1072-1774533600-1774544400@seniorenbeirat-herten.de
SUMMARY:Filmtreff: Frühstück bei Monsieur Henri
DESCRIPTION:
URL:https://seniorenbeirat-herten.de/event/filmtreff-fruehstueck-bei-monsieur-henri/
LOCATION:Gemeinderäume der Thomaskirche\, Langenbochumer Strasse 435\, Herten\, 45701
END:VEVENT
BEGIN:VEVENT
DTSTART;TZID=Europe/Berlin:20260325T150000
DTEND;TZID=Europe/Berlin:20260325T170000
DTSTAMP:20260421T190422
CREATED:20260203T163941Z
LAST-MODIFIED:20260203T164456Z
UID:1213-1774450800-1774458000@seniorenbeirat-herten.de
SUMMARY:Hilfe beim Umgang mit Handy\, Tablet und Smartphone
DESCRIPTION:
URL:https://seniorenbeirat-herten.de/event/https-seniorenbeirat-herten-de-hilfe-beim-umgang-mit-handy-tablet-und-smartphone/
LOCATION:Café im Wohn- und Pflegezentrum Gertrudenau\, Scherlebecker Str. 264\, Herten\, 45701
END:VEVENT
BEGIN:VEVENT
DTSTART;TZID=Europe/Berlin:20260325T150000
DTEND;TZID=Europe/Berlin:20260325T163000
DTSTAMP:20260421T190422
CREATED:20260203T131656Z
LAST-MODIFIED:20260205T161415Z
UID:1103-1774450800-1774456200@seniorenbeirat-herten.de
SUMMARY:Gesundheits­stammtisch: Schwindel im Alter
DESCRIPTION:
URL:https://seniorenbeirat-herten.de/event/gesundheitsstammtisch-schwindel-im-alter/
LOCATION:Bürgerhaus Herten\, Hans-Senkel-Platz 1\, Herten\, 45699
END:VEVENT
BEGIN:VEVENT
DTSTART;TZID=Europe/Berlin:20260323T100000
DTEND;TZID=Europe/Berlin:20260323T120000
DTSTAMP:20260421T190422
CREATED:20260216T165606Z
LAST-MODIFIED:20260216T165606Z
UID:1448-1774260000-1774267200@seniorenbeirat-herten.de
SUMMARY:Plauderstübchen am Paschenberg
DESCRIPTION:
URL:https://seniorenbeirat-herten.de/event/plauderstuebchen-am-paschenberg-2/
LOCATION:Projektraum\, Feldstrasse 125\, Herten\, 45699\, Germany
END:VEVENT
BEGIN:VEVENT
DTSTART;TZID=Europe/Berlin:20260320T150000
DTEND;TZID=Europe/Berlin:20260320T170000
DTSTAMP:20260421T190422
CREATED:20260203T145636Z
LAST-MODIFIED:20260203T145636Z
UID:1154-1774018800-1774026000@seniorenbeirat-herten.de
SUMMARY:PlauderCafé in Westerholt
DESCRIPTION:
URL:https://seniorenbeirat-herten.de/event/plaudercafe-in-westerholt-2/
LOCATION:Caféthek der FBW\, Kuhstrasse 49\, Herten\, 45701
END:VEVENT
BEGIN:VEVENT
DTSTART;TZID=Europe/Berlin:20260319T150000
DTEND;TZID=Europe/Berlin:20260319T170000
DTSTAMP:20260421T190422
CREATED:20260205T154114Z
LAST-MODIFIED:20260205T154114Z
UID:1320-1773932400-1773939600@seniorenbeirat-herten.de
SUMMARY:Technik­stammtisch
DESCRIPTION:
URL:https://seniorenbeirat-herten.de/event/technikstammtisch-2/
LOCATION:Bürgerhaus Herten\, Hans-Senkel-Platz 1\, Herten\, 45699
END:VEVENT
BEGIN:VEVENT
DTSTART;TZID=Europe/Berlin:20260317T100000
DTEND;TZID=Europe/Berlin:20260317T120000
DTSTAMP:20260421T190422
CREATED:20260204T103231Z
LAST-MODIFIED:20260204T103231Z
UID:1252-1773741600-1773748800@seniorenbeirat-herten.de
SUMMARY:Plauderstunde in Scherlebeck
DESCRIPTION:
URL:https://seniorenbeirat-herten.de/event/plauderstunde-in-scherlebeck-2/
LOCATION:Café im Wohn- und Pflegezentrum Gertrudenau\, Scherlebecker Str. 264\, Herten\, 45701
END:VEVENT
BEGIN:VEVENT
DTSTART;TZID=Europe/Berlin:20260311T150000
DTEND;TZID=Europe/Berlin:20260311T170000
DTSTAMP:20260421T190422
CREATED:20260203T140254Z
LAST-MODIFIED:20260205T163215Z
UID:1125-1773241200-1773248400@seniorenbeirat-herten.de
SUMMARY:Arbeitstreffen des Senioren­beirates
DESCRIPTION:
URL:https://seniorenbeirat-herten.de/event/arbeitstreffen-des-seniorenbeirates/
LOCATION:Bürgerhaus Herten\, Hans-Senkel-Platz 1\, Herten\, 45699
END:VEVENT
BEGIN:VEVENT
DTSTART;TZID=Europe/Berlin:20260306T100000
DTEND;TZID=Europe/Berlin:20260306T120000
DTSTAMP:20260421T190422
CREATED:20260203T151935Z
LAST-MODIFIED:20260220T092704Z
UID:1182-1772791200-1772798400@seniorenbeirat-herten.de
SUMMARY:Miteinander im Gespräch
DESCRIPTION:
URL:https://seniorenbeirat-herten.de/event/miteinander-im-gespraech-12/
LOCATION:RaumZeit im Glashaus Herten\, Hermannstrasse 16\, Herten\, 45699
END:VEVENT
BEGIN:VEVENT
DTSTART;TZID=Europe/Berlin:20260305T100000
DTEND;TZID=Europe/Berlin:20260305T120000
DTSTAMP:20260421T190422
CREATED:20260204T104656Z
LAST-MODIFIED:20260205T153548Z
UID:1274-1772704800-1772712000@seniorenbeirat-herten.de
SUMMARY:Frühstücks­runde in Scherlebeck
DESCRIPTION:
URL:https://seniorenbeirat-herten.de/event/fruehstuecksrunde-in-scherlebeck-2/
LOCATION:Café im Wohn- und Pflegezentrum Gertrudenau\, Scherlebecker Str. 264\, Herten\, 45701
END:VEVENT
BEGIN:VEVENT
DTSTART;TZID=Europe/Berlin:20260304T170000
DTEND;TZID=Europe/Berlin:20260304T180000
DTSTAMP:20260421T190422
CREATED:20260203T132712Z
LAST-MODIFIED:20260203T132712Z
UID:1107-1772643600-1772647200@seniorenbeirat-herten.de
SUMMARY:Yoga auf dem Stuhl
DESCRIPTION:
URL:https://seniorenbeirat-herten.de/event/yoga-auf-dem-stuhl-2/
LOCATION:Bürgerhaus Herten\, Hans-Senkel-Platz 1\, Herten\, 45699
END:VEVENT
BEGIN:VEVENT
DTSTART;TZID=Europe/Berlin:20260302T090000
DTEND;TZID=Europe/Berlin:20260302T120000
DTSTAMP:20260421T190422
CREATED:20260203T151818Z
LAST-MODIFIED:20260220T092557Z
UID:1180-1772442000-1772452800@seniorenbeirat-herten.de
SUMMARY:Miteinander im Gespräch
DESCRIPTION:
URL:https://seniorenbeirat-herten.de/event/miteinander-im-gespraech-11/
LOCATION:Bürgerhaus Herten\, Hans-Senkel-Platz 1\, Herten\, 45699
END:VEVENT
BEGIN:VEVENT
DTSTART;TZID=Europe/Berlin:20260226T140000
DTEND;TZID=Europe/Berlin:20260226T170000
DTSTAMP:20260421T190422
CREATED:20260203T123835Z
LAST-MODIFIED:20260203T141400Z
UID:1067-1772114400-1772125200@seniorenbeirat-herten.de
SUMMARY:Filmtreff: Monsieur Claude und sein großes Fest
DESCRIPTION:
URL:https://seniorenbeirat-herten.de/event/filmtreff-monsieur-claude-und-sein-grosses-fest/
LOCATION:Gemeinderäume der Thomaskirche\, Langenbochumer Strasse 435\, Herten\, 45701
END:VEVENT
BEGIN:VEVENT
DTSTART;TZID=Europe/Berlin:20260225T150000
DTEND;TZID=Europe/Berlin:20260225T170000
DTSTAMP:20260421T190422
CREATED:20260203T163843Z
LAST-MODIFIED:20260203T163843Z
UID:1211-1772031600-1772038800@seniorenbeirat-herten.de
SUMMARY:Hilfe beim Umgang mit Handy\, Tablet und Smartphone
DESCRIPTION:
URL:https://seniorenbeirat-herten.de/event/hilfe-beim-umgang-mit-handy-tablet-und-smartphone/
LOCATION:Café im Wohn- und Pflegezentrum Gertrudenau\, Scherlebecker Str. 264\, Herten\, 45701
END:VEVENT
BEGIN:VEVENT
DTSTART;TZID=Europe/Berlin:20260223T100000
DTEND;TZID=Europe/Berlin:20260223T120000
DTSTAMP:20260421T190422
CREATED:20260216T165153Z
LAST-MODIFIED:20260216T165153Z
UID:1443-1771840800-1771848000@seniorenbeirat-herten.de
SUMMARY:Plauderstübchen am Paschenberg
DESCRIPTION:
URL:https://seniorenbeirat-herten.de/event/plauderstuebchen-am-paschenberg/
LOCATION:Projektraum\, Feldstrasse 125\, Herten\, 45699\, Germany
END:VEVENT
BEGIN:VEVENT
DTSTART;TZID=Europe/Berlin:20260220T150000
DTEND;TZID=Europe/Berlin:20260220T170000
DTSTAMP:20260421T190422
CREATED:20260203T144831Z
LAST-MODIFIED:20260203T145243Z
UID:1151-1771599600-1771606800@seniorenbeirat-herten.de
SUMMARY:PlauderCafé in Westerholt
DESCRIPTION:
URL:https://seniorenbeirat-herten.de/event/plaudercafe-in-westerholt/
LOCATION:Caféthek der FBW\, Kuhstrasse 49\, Herten\, 45701
END:VEVENT
BEGIN:VEVENT
DTSTART;TZID=Europe/Berlin:20260219T150000
DTEND;TZID=Europe/Berlin:20260219T170000
DTSTAMP:20260421T190422
CREATED:20260205T154023Z
LAST-MODIFIED:20260205T154023Z
UID:1318-1771513200-1771520400@seniorenbeirat-herten.de
SUMMARY:Technik­stammtisch
DESCRIPTION:
URL:https://seniorenbeirat-herten.de/event/technikstammtisch/
LOCATION:Bürgerhaus Herten\, Hans-Senkel-Platz 1\, Herten\, 45699
END:VEVENT
BEGIN:VEVENT
DTSTART;TZID=Europe/Berlin:20260217T100000
DTEND;TZID=Europe/Berlin:20260217T120000
DTSTAMP:20260421T190422
CREATED:20260204T103129Z
LAST-MODIFIED:20260204T103129Z
UID:1250-1771322400-1771329600@seniorenbeirat-herten.de
SUMMARY:Plauderstunde in Scherlebeck
DESCRIPTION:
URL:https://seniorenbeirat-herten.de/event/plauderstunde-in-scherlebeck/
LOCATION:Café im Wohn- und Pflegezentrum Gertrudenau\, Scherlebecker Str. 264\, Herten\, 45701
END:VEVENT
BEGIN:VEVENT
DTSTART;TZID=Europe/Berlin:20260211T170000
DTEND;TZID=Europe/Berlin:20260211T180000
DTSTAMP:20260421T190422
CREATED:20260203T132410Z
LAST-MODIFIED:20260203T132551Z
UID:1105-1770829200-1770832800@seniorenbeirat-herten.de
SUMMARY:Yoga auf dem Stuhl
DESCRIPTION:
URL:https://seniorenbeirat-herten.de/event/yoga-auf-dem-stuhl/
LOCATION:Bürgerhaus Herten\, Hans-Senkel-Platz 1\, Herten\, 45699
END:VEVENT
END:VCALENDAR