BEGIN:VCALENDAR
VERSION:2.0
PRODID:-//Seniorenbeirat Stadt Herten - ECPv6.15.20//NONSGML v1.0//EN
CALSCALE:GREGORIAN
METHOD:PUBLISH
X-WR-CALNAME:Seniorenbeirat Stadt Herten
X-ORIGINAL-URL:https://seniorenbeirat-herten.de
X-WR-CALDESC:Veranstaltungen für Seniorenbeirat Stadt Herten
REFRESH-INTERVAL;VALUE=DURATION:PT1H
X-Robots-Tag:noindex
X-PUBLISHED-TTL:PT1H
BEGIN:VTIMEZONE
TZID:Europe/Berlin
BEGIN:DAYLIGHT
TZOFFSETFROM:+0100
TZOFFSETTO:+0200
TZNAME:CEST
DTSTART:20250330T010000
END:DAYLIGHT
BEGIN:STANDARD
TZOFFSETFROM:+0200
TZOFFSETTO:+0100
TZNAME:CET
DTSTART:20251026T010000
END:STANDARD
BEGIN:DAYLIGHT
TZOFFSETFROM:+0100
TZOFFSETTO:+0200
TZNAME:CEST
DTSTART:20260329T010000
END:DAYLIGHT
BEGIN:STANDARD
TZOFFSETFROM:+0200
TZOFFSETTO:+0100
TZNAME:CET
DTSTART:20261025T010000
END:STANDARD
BEGIN:DAYLIGHT
TZOFFSETFROM:+0100
TZOFFSETTO:+0200
TZNAME:CEST
DTSTART:20270328T010000
END:DAYLIGHT
BEGIN:STANDARD
TZOFFSETFROM:+0200
TZOFFSETTO:+0100
TZNAME:CET
DTSTART:20271031T010000
END:STANDARD
END:VTIMEZONE
BEGIN:VEVENT
DTSTART;TZID=Europe/Berlin:20260630T100000
DTEND;TZID=Europe/Berlin:20260630T120000
DTSTAMP:20260422T010137
CREATED:20260413T201824Z
LAST-MODIFIED:20260413T202742Z
UID:1837-1782813600-1782820800@seniorenbeirat-herten.de
SUMMARY:Gedächtnistraining
DESCRIPTION:Anmeldung bei Ute Orlowski unter Tel.: 02366-84433 oder ute.orlowski@gmx.de;
URL:https://seniorenbeirat-herten.de/event/gedaechtnistraining/
LOCATION:Ludothek\, Ewaldstraße 20\, 45699\, 45699\, Germany
END:VEVENT
END:VCALENDAR