BEGIN:VCALENDAR
VERSION:2.0
PRODID:-//Seniorenbeirat Stadt Herten - ECPv6.15.20//NONSGML v1.0//EN
CALSCALE:GREGORIAN
METHOD:PUBLISH
X-WR-CALNAME:Seniorenbeirat Stadt Herten
X-ORIGINAL-URL:https://seniorenbeirat-herten.de
X-WR-CALDESC:Veranstaltungen für Seniorenbeirat Stadt Herten
REFRESH-INTERVAL;VALUE=DURATION:PT1H
X-Robots-Tag:noindex
X-PUBLISHED-TTL:PT1H
BEGIN:VTIMEZONE
TZID:Europe/Berlin
BEGIN:DAYLIGHT
TZOFFSETFROM:+0100
TZOFFSETTO:+0200
TZNAME:CEST
DTSTART:20250330T010000
END:DAYLIGHT
BEGIN:STANDARD
TZOFFSETFROM:+0200
TZOFFSETTO:+0100
TZNAME:CET
DTSTART:20251026T010000
END:STANDARD
BEGIN:DAYLIGHT
TZOFFSETFROM:+0100
TZOFFSETTO:+0200
TZNAME:CEST
DTSTART:20260329T010000
END:DAYLIGHT
BEGIN:STANDARD
TZOFFSETFROM:+0200
TZOFFSETTO:+0100
TZNAME:CET
DTSTART:20261025T010000
END:STANDARD
BEGIN:DAYLIGHT
TZOFFSETFROM:+0100
TZOFFSETTO:+0200
TZNAME:CEST
DTSTART:20270328T010000
END:DAYLIGHT
BEGIN:STANDARD
TZOFFSETFROM:+0200
TZOFFSETTO:+0100
TZNAME:CET
DTSTART:20271031T010000
END:STANDARD
END:VTIMEZONE
BEGIN:VEVENT
DTSTART;TZID=Europe/Berlin:20260425T090000
DTEND;TZID=Europe/Berlin:20260425T180000
DTSTAMP:20260421T204006
CREATED:20260413T195125Z
LAST-MODIFIED:20260413T195125Z
UID:1814-1777107600-1777140000@seniorenbeirat-herten.de
SUMMARY:Ausflug zum Tulpenmarkt nach Venlo
DESCRIPTION:Abfahrt mit dem Bus 9:00 Uhr ab Rathaus Herten; weitere Zustiegspunkte : 9:10 Uhr Haltestelle Schloßstrasse\, 9:20 Uhr Langenbochum – ehem. KIK\, 9:30 Uhr Scherlebeck – Flammengrill; \nAnkunft in Herten ca. 18:00 Uhr; \nAnmeldung bei Carmen Muhs unter Tel.: 0151-23597973 oder carmen.muhs@waldritter.de; \nKosten für Mitglieder des Vereins Aktive Senioren Herten e.V.: 25 €; \nGäste sind herzlich willkommen. Kosten 27 € \n 
URL:https://seniorenbeirat-herten.de/event/ausflug-zum-tulpenmarkt-nach-venlo/
LOCATION:Wochenmarkt Venlo\, Monseigneur Nolensplein 50\, Venlo\, 5911 GG\, Netherlands
END:VEVENT
END:VCALENDAR